BEGIN:VCALENDAR
VERSION:2.0
PRODID:-//emmel.tv//Kalender//DE
CALSCALE:GREGORIAN
METHOD:PUBLISH
X-WR-CALNAME:emmel.tv Kalender
X-WR-TIMEZONE:Europe/Berlin
BEGIN:VEVENT
DTSTART;VALUE=DATE:20260421
DTEND;VALUE=DATE:20260422
SUMMARY:emmel Offday
DESCRIPTION:Kein Stream heute
UID:cmo71qp6x50mxktiqb973gb2i@emmel.tv
END:VEVENT
BEGIN:VEVENT
DTSTART;TZID=Europe/Berlin:20260422T170000
DTEND;TZID=Europe/Berlin:20260422T200000
SUMMARY:emmel Stream - Community Mittwoch
DESCRIPTION:Livestream auf https://twitch.tv/janemmel\\nKategorie: Community Games\, Just Chatting
URL:https://twitch.tv/janemmel
UID:cmo71rsfa50myktiqam9au5oy@emmel.tv
END:VEVENT
BEGIN:VEVENT
DTSTART;TZID=Europe/Berlin:20260423T170000
DTEND;TZID=Europe/Berlin:20260423T200000
SUMMARY:emmel Stream - EmmelRogue
DESCRIPTION:Livestream auf https://twitch.tv/janemmel\\nKategorie: Gaming
URL:https://twitch.tv/janemmel
UID:cmo71vpt450n1ktiq3foq67a4@emmel.tv
END:VEVENT
BEGIN:VEVENT
DTSTART;TZID=Europe/Berlin:20260424T170000
DTEND;TZID=Europe/Berlin:20260424T200000
SUMMARY:emmel Stream - Finde den Imposter - Finale
DESCRIPTION:Livestream auf https://twitch.tv/janemmel\\nKategorie: Quizshow\, neues Format\\nGaeste: Jonsman\, AddiPengPeng\, LieberLeo\, ZeusSpezial
URL:https://twitch.tv/janemmel
UID:cmo71x9nb50n2ktiqyucprb3x@emmel.tv
END:VEVENT
BEGIN:VEVENT
DTSTART;VALUE=DATE:20260425
DTEND;VALUE=DATE:20260426
SUMMARY:emmel Offday
DESCRIPTION:Kein Stream heute
UID:cmo71xj7a50n3ktiqe6ox5dov@emmel.tv
END:VEVENT
BEGIN:VEVENT
DTSTART;TZID=Europe/Berlin:20260426T170000
DTEND;TZID=Europe/Berlin:20260426T200000
SUMMARY:emmel Stream - Streamer vs. Chat
DESCRIPTION:Livestream auf https://twitch.tv/janemmel\\nKategorie: neues Format\, Quizshow\\nGaeste: Mehluxka
URL:https://twitch.tv/janemmel
UID:cmo71yi1g50n4ktiqt4j33o49@emmel.tv
END:VEVENT
END:VCALENDAR